Workbook
Name libelle_indic: #REF!
Name liste_OS: #REF!

Sheet Notice
A1: ETATS RECAPITULATIFS DES DEPENSES ET DES RESSOURCES
B3: Version n°8 du 26/03/2026
A4: Cette notice d'utilisation vise à vous aider à renseigner les états récaptitulatifs des dépenses et ressources nécessaires pour la réalisation de vos demandes de paiement dans l'application E-Synergie
A5: Reportez ensuite ces informations et transmettez les pièces justificatives associées dans votre demande de paiement au sein de l'application E-Synergie
A6: Pour en savoir plus sur la demande de paiement : | B6: https://www.europe-bfc.eu/je-suis-beneficiaire/je-depose-ma-demande-de-paiement/demande-de-paiement-feder-fse-2021-2027/
A8: Onglets à compléter : | B8: Consignes
A9: Dépenses | B9: Saisissez les dépenses réalisées ventillées par poste et éventuels sous-postes de dépenses (cellules jaunes uniquement), comme indiqué dans l'annexe financière de la convention Les éventuelles dépenses de personnel, de déplacement et de travaux sont renseignées à partir des onglets "Détail" correspondants N'oubliez pas les autres dépenses (prestations externes de service, équipements, acquisitions immobilières, etc.) si elles sont prévues dans l'annexe financière de la convention. Cette dernière peut également prévoir le financement à taux forfaitaire de certaines dépenses (dépenses indirectes, coûts restants - hors dépenses de personnel) qui doivent également être saisies dans l'onglet "Dépenses" Editez le document et le faire signer par le certificateur et la personne habilitée à engager votre structure (représentant légal ou délégataire, le cas échéant)
A10: Détail des dépenses de personnel (si votre opération est concernée par ce type de dépenses) | B10: Renseignez les informations mensuelles (cellules jaunes uniquement) pour chaque salarié concerné par cette opération, comme indiqué dans l'annexe financière de la convention. Le salaire annuel brut chargé est plafonné à 100 000 € / ETP ; en cas de personnel travaillant à temps non-complet dans la structure, un prorata temporis est automatiquement calculé Copiez ensuite la ligne récapitulative de chaque salarié dans le tableau de l'onglet "Dépenses" par collage spécial de type "Valeurs"
A11: Détail des dépenses de déplacement (si votre opération est concernée par ce type de dépenses) | B11: A compléter uniquement si cette catégorie de dépenses n'est pas couverte par un forfait (cf. appel à projets ou fiche action dans lequel s'inscrit votre projet) Renseignez les informations pour chaque salarié concerné par cette opération comme indiqué dans l'annexe financière de la convention. Copiez ensuite la ligne récapitulative de chaque salarié dans le tableau de l'onglet "Dépenses" par collage spécial de type "Valeurs"
A12: Détail des dépenses d'investissement immatériel (travaux) (si votre opération est concernée par ce type de dépenses) | B12: A compléter uniquement si cette catégorie de dépenses n'est pas couverte par un forfait (cf. appel à projets ou fiche action dans lequel s'inscrit votre projet) Renseignez toutes les factures (cellules jaunes uniquement) des différents lots concernés par l'opération, comme indiqué dans l'annexe financière de la convention (1 tableau par lot de travaux concerné par l'opération). Copiez ensuite la ligne récapitulative (de la cellule A à la cellule K) de chaque salarié dans le tableau de l'onglet "Dépenses" par collage spécial de type "Valeurs"
A13: Détail des contributions en nature (si votre opération est concernée par ce type de dépenses) | B13: Renseignez les informations pour chaque structure contributrice à cette opération, comme indiqué dans l'annexe financière de la convention (1 bloc par structure contributrice). Les contributions doivent être déclarées dans le plan de financement en dépenses ET en ressources (pour un montant équivalent) Reportez ensuite le montant total des contributions dans l'onglet "Ressources"
A14: Ressources | B14: Saisissez une ligne par versement percu de chaque cofinanceur (cellules jaunes uniquement) pour cette opération Montant cofinancement total à renseigner : Montant total indiqué dans la convention du cofinanceur Montant cofinancement éligible UE à renseigner : Montant total indiqué dans la convention FEDER Editez le document et le faire signer par le certificateur et la personne habilitée à engager votre structure (représentant légal ou délégataire, le cas échéant)

Sheet Dépenses
A1: ETAT RECAPITULATIF DES DEPENSES DE L'OPERATION
B3: Informations concernant l'opération et la demande à renseigner
B4: Bénéficiaire
B5: Numéro d'opération
B6: Opération | M6: Choisir HT / TTC
B7: Numéro de la demande de paiement | M7: HT | N7: ATTENTION cette colonne doit figurer dans le document signé mais ne doit pas être retenue pour l'import dans E-Synergie
B8: Type de la demande de paiement | C8: Acompte | M8: TTC | Q8: Réservé au service gestionnaire
B9: Période de déclaration des dépenses | Q9: VGCR : réaliser un copier coller valeur en colonne S
A10: Pour ajouter des lignes, cliquer sur le "+" à gauche, face aux lignes n° 51, 88, 126 etc. | J10: TTC | Q10: Application des règles d'échantillonnage VGBR - Applicable uniquement pour les dossiers y ouvrant droit en fonction de leur note de risque (voir onglet VGBR) | U10: Vérification de Gestion
A11: VGCR : CATEGORIE POSTE DEPENSE | B11: Poste de dépenses/ Sous-poste éventuel (libellé présent dans l'annexe financière de la convention) | C11: Emetteur | D11: Référence (pas de doublon) | E11: Date émission | F11: Date d'acquittement | G11: Dernière date acquittement | H11: Type dépense | I11: Descriptif | J11: Montant pièce comptable | K11: Montant non présenté | L11: Commentaire | M11: Nom du fichier correspondant à la pièce justificative | N11: Montant des dépenses présentées | Q11: Echantillonnage du post de dépense (O/N)* | R11: Fonction Alea | S11: Réaliser un copier coller "valeurs uniquement" de la colonne R | T11: Contrôle Oui/Non Si oui, contrôle exhaustif de tous les postes de la catégorie = " contrôle en exhaustif" ou contrôle sur un échantillonnage de dépenses de la catégorie = "échantillon à contrôler" Si non, pas de contrôle de la dépense = "hors échantillon" + au solde, contrôle obligatoire de la dernière facture du DGD | U11: Vérification de la réalité/lien avec l'opération | V11: Vérification de l'acquittement | W11: Vérification de l'éligibilité temporelle | X11: Montant retenu | Y11: Montant écarté | Z11: Commentaires
N12: =J12-K12 -> 0 | Q12: =IF(COUNTIF(A:F,A12)>=25,"OUI","NON") -> NON | R12: =IF(Q12="oui",RAND(),"<25 lignes donc pas d'échantillonnage") -> <25 lignes donc pas d'échantillonnage | T12: =IF(Q12="oui",IF(SUMIFS(N:N,A:A,A12,S:S,"<="&S12)/SUMIF(A:A,A12,N:N)<0.8,"hors Echantillon","Echantillon à Contrôler"), "Contrôle en exhaustif") -> Contrôle en exhaustif
N13: =J13-K13 -> 0 | Q13: =IF(COUNTIF(A:F,A13)>=25,"OUI","NON") -> NON | R13: =IF(Q13="oui",RAND(),"<25 lignes donc pas d'échantillonnage") -> <25 lignes donc pas d'échantillonnage | T13: =IF(Q13="oui",IF(SUMIFS(N:N,A:A,A13,S:S,"<="&S13)/SUMIF(A:A,A13,N:N)<0.8,"hors Echantillon","Echantillon à Contrôler"), "Contrôle en exhaustif") -> Contrôle en exhaustif
N14: =J14-K14 -> 0 | Q14: =IF(COUNTIF(A:F,A14)>=25,"OUI","NON") -> NON | R14: =IF(Q14="oui",RAND(),"<25 lignes donc pas d'échantillonnage") -> <25 lignes donc pas d'échantillonnage | T14: =IF(Q14="oui",IF(SUMIFS(N:N,A:A,A14,S:S,"<="&S14)/SUMIF(A:A,A14,N:N)<0.8,"hors Echantillon","Echantillon à Contrôler"), "Contrôle en exhaustif") -> Contrôle en exhaustif
N15: =J15-K15 -> 0 | Q15: =IF(COUNTIF(A:F,A15)>=25,"OUI","NON") -> NON | R15: =IF(Q15="oui",RAND(),"<25 lignes donc pas d'échantillonnage") -> <25 lignes donc pas d'échantillonnage | T15: =IF(Q15="oui",IF(SUMIFS(N:N,A:A,A15,S:S,"<="&S15)/SUMIF(A:A,A15,N:N)<0.8,"hors Echantillon","Echantillon à Contrôler"), "Contrôle en exhaustif") -> Contrôle en exhaustif
N16: =J16-K16 -> 0 | Q16: =IF(COUNTIF(A:F,A16)>=25,"OUI","NON") -> NON | R16: =IF(Q16="oui",RAND(),"<25 lignes donc pas d'échantillonnage") -> <25 lignes donc pas d'échantillonnage | T16: =IF(Q16="oui",IF(SUMIFS(N:N,A:A,A16,S:S,"<="&S16)/SUMIF(A:A,A16,N:N)<0.8,"hors Echantillon","Echantillon à Contrôler"), "Contrôle en exhaustif") -> Contrôle en exhaustif
N17: =J17-K17 -> 0 | Q17: =IF(COUNTIF(A:F,A17)>=25,"OUI","NON") -> NON | R17: =IF(Q17="oui",RAND(),"<25 lignes donc pas d'échantillonnage") -> <25 lignes donc pas d'échantillonnage | T17: =IF(Q17="oui",IF(SUMIFS(N:N,A:A,A17,S:S,"<="&S17)/SUMIF(A:A,A17,N:N)<0.8,"hors Echantillon","Echantillon à Contrôler"), "Contrôle en exhaustif") -> Contrôle en exhaustif
N18: =J18-K18 -> 0 | Q18: =IF(COUNTIF(A:F,A18)>=25,"OUI","NON") -> NON | R18: =IF(Q18="oui",RAND(),"<25 lignes donc pas d'échantillonnage") -> <25 lignes donc pas d'échantillonnage | T18: =IF(Q18="oui",IF(SUMIFS(N:N,A:A,A18,S:S,"<="&S18)/SUMIF(A:A,A18,N:N)<0.8,"hors Echantillon","Echantillon à Contrôler"), "Contrôle en exhaustif") -> Contrôle en exhaustif
N19: =J19-K19 -> 0 | Q19: =IF(COUNTIF(A:F,A19)>=25,"OUI","NON") -> NON | R19: =IF(Q19="oui",RAND(),"<25 lignes donc pas d'échantillonnage") -> <25 lignes donc pas d'échantillonnage | T19: =IF(Q19="oui",IF(SUMIFS(N:N,A:A,A19,S:S,"<="&S19)/SUMIF(A:A,A19,N:N)<0.8,"hors Echantillon","Echantillon à Contrôler"), "Contrôle en exhaustif") -> Contrôle en exhaustif
N20: =J20-K20 -> 0 | Q20: =IF(COUNTIF(A:F,A20)>=25,"OUI","NON") -> NON | R20: =IF(Q20="oui",RAND(),"<25 lignes donc pas d'échantillonnage") -> <25 lignes donc pas d'échantillonnage | T20: =IF(Q20="oui",IF(SUMIFS(N:N,A:A,A20,S:S,"<="&S20)/SUMIF(A:A,A20,N:N)<0.8,"hors Echantillon","Echantillon à Contrôler"), "Contrôle en exhaustif") -> Contrôle en exhaustif
N21: =J21-K21 -> 0 | Q21: =IF(COUNTIF(A:F,A21)>=25,"OUI","NON") -> NON | R21: =IF(Q21="oui",RAND(),"<25 lignes donc pas d'échantillonnage") -> <25 lignes donc pas d'échantillonnage | T21: =IF(Q21="oui",IF(SUMIFS(N:N,A:A,A21,S:S,"<="&S21)/SUMIF(A:A,A21,N:N)<0.8,"hors Echantillon","Echantillon à Contrôler"), "Contrôle en exhaustif") -> Contrôle en exhaustif
N22: =J22-K22 -> 0 | Q22: =IF(COUNTIF(A:F,A22)>=25,"OUI","NON") -> NON | R22: =IF(Q22="oui",RAND(),"<25 lignes donc pas d'échantillonnage") -> <25 lignes donc pas d'échantillonnage | T22: =IF(Q22="oui",IF(SUMIFS(N:N,A:A,A22,S:S,"<="&S22)/SUMIF(A:A,A22,N:N)<0.8,"hors Echantillon","Echantillon à Contrôler"), "Contrôle en exhaustif") -> Contrôle en exhaustif
N23: =J23-K23 -> 0 | Q23: =IF(COUNTIF(A:F,A23)>=25,"OUI","NON") -> NON | R23: =IF(Q23="oui",RAND(),"<25 lignes donc pas d'échantillonnage") -> <25 lignes donc pas d'échantillonnage | T23: =IF(Q23="oui",IF(SUMIFS(N:N,A:A,A23,S:S,"<="&S23)/SUMIF(A:A,A23,N:N)<0.8,"hors Echantillon","Echantillon à Contrôler"), "Contrôle en exhaustif") -> Contrôle en exhaustif
... N79: =J79-K79 -> 0 | Q79: =IF(COUNTIF(A:F,A79)>=25,"OUI","NON") -> NON | R79: =IF(Q79="oui",RAND(),"<25 lignes donc pas d'échantillonnage") -> <25 lignes donc pas d'échantillonnage | T79: =IF(Q79="oui",IF(SUMIFS(N:N,A:A,A79,S:S,"<="&S79)/SUMIF(A:A,A79,N:N)<0.8,"hors Echantillon","Echantillon à Contrôler"), "Contrôle en exhaustif") -> Contrôle en exhaustif
N80: =J80-K80 -> 0 | Q80: =IF(COUNTIF(A:F,A80)>=25,"OUI","NON") -> NON | R80: =IF(Q80="oui",RAND(),"<25 lignes donc pas d'échantillonnage") -> <25 lignes donc pas d'échantillonnage | T80: =IF(Q80="oui",IF(SUMIFS(N:N,A:A,A80,S:S,"<="&S80)/SUMIF(A:A,A80,N:N)<0.8,"hors Echantillon","Echantillon à Contrôler"), "Contrôle en exhaustif") -> Contrôle en exhaustif | AA80: 52902.92
N81: =J81-K81 -> 0 | Q81: =IF(COUNTIF(A:F,A81)>=25,"OUI","NON") -> NON | R81: =IF(Q81="oui",RAND(),"<25 lignes donc pas d'échantillonnage") -> <25 lignes donc pas d'échantillonnage | T81: =IF(Q81="oui",IF(SUMIFS(N:N,A:A,A81,S:S,"<="&S81)/SUMIF(A:A,A81,N:N)<0.8,"hors Echantillon","Echantillon à Contrôler"), "Contrôle en exhaustif") -> Contrôle en exhaustif | AA81: 58225.26
N82: =J82-K82 -> 0 | Q82: =IF(COUNTIF(A:F,A82)>=25,"OUI","NON") -> NON | R82: =IF(Q82="oui",RAND(),"<25 lignes donc pas d'échantillonnage") -> <25 lignes donc pas d'échantillonnage | T82: =IF(Q82="oui",IF(SUMIFS(N:N,A:A,A82,S:S,"<="&S82)/SUMIF(A:A,A82,N:N)<0.8,"hors Echantillon","Echantillon à Contrôler"), "Contrôle en exhaustif") -> Contrôle en exhaustif | AA82: 71035.79
N83: =J83-K83 -> 0 | Q83: =IF(COUNTIF(A:F,A83)>=25,"OUI","NON") -> NON | R83: =IF(Q83="oui",RAND(),"<25 lignes donc pas d'échantillonnage") -> <25 lignes donc pas d'échantillonnage | T83: =IF(Q83="oui",IF(SUMIFS(N:N,A:A,A83,S:S,"<="&S83)/SUMIF(A:A,A83,N:N)<0.8,"hors Echantillon","Echantillon à Contrôler"), "Contrôle en exhaustif") -> Contrôle en exhaustif | AA83: 71465.33
Q84: =IF(COUNTIF(A:F,A84)>=25,"OUI","NON") -> NON | R84: =IF(Q84="oui",RAND(),"<25 lignes donc pas d'échantillonnage") -> <25 lignes donc pas d'échantillonnage | T84: =IF(Q84="oui",IF(SUMIFS(N:N,A:A,A84,S:S,"<="&S84)/SUMIF(A:A,A84,N:N)<0.8,"hors Echantillon","Echantillon à Contrôler"), "Contrôle en exhaustif") -> Contrôle en exhaustif
Q85: =IF(COUNTIF(A:F,A85)>=25,"OUI","NON") -> NON | R85: =IF(Q85="oui",RAND(),"<25 lignes donc pas d'échantillonnage") -> <25 lignes donc pas d'échantillonnage | T85: =IF(Q85="oui",IF(SUMIFS(N:N,A:A,A85,S:S,"<="&S85)/SUMIF(A:A,A85,N:N)<0.8,"hors Echantillon","Echantillon à Contrôler"), "Contrôle en exhaustif") -> Contrôle en exhaustif
Q86: =IF(COUNTIF(A:F,A86)>=25,"OUI","NON") -> NON | R86: =IF(Q86="oui",RAND(),"<25 lignes donc pas d'échantillonnage") -> <25 lignes donc pas d'échantillonnage | T86: =IF(Q86="oui",IF(SUMIFS(N:N,A:A,A86,S:S,"<="&S86)/SUMIF(A:A,A86,N:N)<0.8,"hors Echantillon","Echantillon à Contrôler"), "Contrôle en exhaustif") -> Contrôle en exhaustif
Q87: =IF(COUNTIF(A:F,A87)>=25,"OUI","NON") -> NON | R87: =IF(Q87="oui",RAND(),"<25 lignes donc pas d'échantillonnage") -> <25 lignes donc pas d'échantillonnage | T87: =IF(Q87="oui",IF(SUMIFS(N:N,A:A,A87,S:S,"<="&S87)/SUMIF(A:A,A87,N:N)<0.8,"hors Echantillon","Echantillon à Contrôler"), "Contrôle en exhaustif") -> Contrôle en exhaustif
Q88: =IF(COUNTIF(A:F,A88)>=25,"OUI","NON") -> NON | R88: =IF(Q88="oui",RAND(),"<25 lignes donc pas d'échantillonnage") -> <25 lignes donc pas d'échantillonnage | T88: =IF(Q88="oui",IF(SUMIFS(N:N,A:A,A88,S:S,"<="&S88)/SUMIF(A:A,A88,N:N)<0.8,"hors Echantillon","Echantillon à Contrôler"), "Contrôle en exhaustif") -> Contrôle en exhaustif
Q89: =IF(COUNTIF(A:F,A89)>=25,"OUI","NON") -> NON | R89: =IF(Q89="oui",RAND(),"<25 lignes donc pas d'échantillonnage") -> <25 lignes donc pas d'échantillonnage | T89: =IF(Q89="oui",IF(SUMIFS(N:N,A:A,A89,S:S,"<="&S89)/SUMIF(A:A,A89,N:N)<0.8,"hors Echantillon","Echantillon à Contrôler"), "Contrôle en exhaustif") -> Contrôle en exhaustif
Q90: =IF(COUNTIF(A:F,A90)>=25,"OUI","NON") -> NON | R90: =IF(Q90="oui",RAND(),"<25 lignes donc pas d'échantillonnage") -> <25 lignes donc pas d'échantillonnage | T90: =IF(Q90="oui",IF(SUMIFS(N:N,A:A,A90,S:S,"<="&S90)/SUMIF(A:A,A90,N:N)<0.8,"hors Echantillon","Echantillon à Contrôler"), "Contrôle en exhaustif") -> Contrôle en exhaustif
Q91: =IF(COUNTIF(A:F,A91)>=25,"OUI","NON") -> NON | R91: =IF(Q91="oui",RAND(),"<25 lignes donc pas d'échantillonnage") -> <25 lignes donc pas d'échantillonnage | T91: =IF(Q91="oui",IF(SUMIFS(N:N,A:A,A91,S:S,"<="&S91)/SUMIF(A:A,A91,N:N)<0.8,"hors Echantillon","Echantillon à Contrôler"), "Contrôle en exhaustif") -> Contrôle en exhaustif
Q92: =IF(COUNTIF(A:F,A92)>=25,"OUI","NON") -> NON | R92: =IF(Q92="oui",RAND(),"<25 lignes donc pas d'échantillonnage") -> <25 lignes donc pas d'échantillonnage | T92: =IF(Q92="oui",IF(SUMIFS(N:N,A:A,A92,S:S,"<="&S92)/SUMIF(A:A,A92,N:N)<0.8,"hors Echantillon","Echantillon à Contrôler"), "Contrôle en exhaustif") -> Contrôle en exhaustif
Q93: =IF(COUNTIF(A:F,A93)>=25,"OUI","NON") -> NON | R93: =IF(Q93="oui",RAND(),"<25 lignes donc pas d'échantillonnage") -> <25 lignes donc pas d'échantillonnage | T93: =IF(Q93="oui",IF(SUMIFS(N:N,A:A,A93,S:S,"<="&S93)/SUMIF(A:A,A93,N:N)<0.8,"hors Echantillon","Echantillon à Contrôler"), "Contrôle en exhaustif") -> Contrôle en exhaustif
Q94: =IF(COUNTIF(A:F,A94)>=25,"OUI","NON") -> NON | R94: =IF(Q94="oui",RAND(),"<25 lignes donc pas d'échantillonnage") -> <25 lignes donc pas d'échantillonnage | T94: =IF(Q94="oui",IF(SUMIFS(N:N,A:A,A94,S:S,"<="&S94)/SUMIF(A:A,A94,N:N)<0.8,"hors Echantillon","Echantillon à Contrôler"), "Contrôle en exhaustif") -> Contrôle en exhaustif
Q95: =IF(COUNTIF(A:F,A95)>=25,"OUI","NON") -> NON | R95: =IF(Q95="oui",RAND(),"<25 lignes donc pas d'échantillonnage") -> <25 lignes donc pas d'échantillonnage | T95: =IF(Q95="oui",IF(SUMIFS(N:N,A:A,A95,S:S,"<="&S95)/SUMIF(A:A,A95,N:N)<0.8,"hors Echantillon","Echantillon à Contrôler"), "Contrôle en exhaustif") -> Contrôle en exhaustif
... Q215: =IF(COUNTIF(A:F,A215)>=25,"OUI","NON") -> NON | R215: =IF(Q215="oui",RAND(),"<25 lignes donc pas d'échantillonnage") -> <25 lignes donc pas d'échantillonnage | T215: =IF(Q215="oui",IF(SUMIFS(N:N,A:A,A215,S:S,"<="&S215)/SUMIF(A:A,A215,N:N)<0.8,"hors Echantillon","Echantillon à Contrôler"), "Contrôle en exhaustif") -> Contrôle en exhaustif
...

Sheet Détail - Personnels
A1: DEPENSES DE PERSONNEL
A3: Bénéficiaire | B3: Nom du bénéficiaire
A4: Numéro d'opération | B4: BFC000xxxxx
A5: Opération | B5: Nom de l'opération
A6: N° demande de paiement | B6: 1
A8: Nom du salarié | E8: Prénom du salarié
A9: Fonction | E9: Période de déclaration des dépenses | F9: du | H9: au | S9: =MONTH(G9) -> 1 | T9: =IF(S9=2,G9+27,IF(OR(S9=1,S9=3,S9=5,S9=7,S9=8,S9=10,S9=12),G9+30,G9+29)) -> 30
A10: Quotité de travail (en %) | E10: Temps de travail annuel de la structure (en heures)
B12: Salaire et charges | E12: Temps passé | G12: Calcul de la dépense correspondante | L12: Cadre réservé à la Région - vérifications faites par le service gestionnaire
A13: Mois | B13: Salaire brut mensuel (en €) | C13: Charges patronales (en €) | D13: Base de dépense (salaire brut chargé) | E13: Activité liée à l'opération (en heures) | F13: Activité totale travaillée (en heures) | G13: Montant présenté (en €) | H13: Montant non présenté (en €) | I13: Taux horaire moyen (en €/h) | L13: Réalité / lien avec l'opération | M13: Acquittement | N13: Eligibilité temporelle | O13: Montant retenu (€) | P13: Montant écarté (€) | Q13: Commentaires
A14: Janvier | D14: =B14+C14 -> 0 | F14: =IF(G$10="","",IF(D14=0,"",G$10/12*B$10))
A15: Février | D15: =B15+C15 -> 0 | F15: =IF(G$10="","",IF(D15=0,"",G$10/12*B$10))
A16: Mars | D16: =B16+C16 -> 0 | F16: =IF(G$10="","",IF(D16=0,"",G$10/12*B$10))
A17: Avril | D17: =B17+C17 -> 0 | F17: =IF(G$10="","",IF(D17=0,"",G$10/12*B$10))
A18: Mai | D18: =B18+C18 -> 0 | F18: =IF(G$10="","",IF(D18=0,"",G$10/12*B$10))
A19: Juin | D19: =B19+C19 -> 0 | F19: =IF(G$10="","",IF(D19=0,"",G$10/12*B$10))
A20: Juillet | D20: =B20+C20 -> 0 | F20: =IF(G$10="","",IF(D20=0,"",G$10/12*B$10))
A21: Août | D21: =B21+C21 -> 0 | F21: =IF(G$10="","",IF(D21=0,"",G$10/12*B$10))
A22: Septembre | D22: =B22+C22 -> 0 | F22: =IF(G$10="","",IF(D22=0,"",G$10/12*B$10))
A23: Octobre | D23: =B23+C23 -> 0 | F23: =IF(G$10="","",IF(D23=0,"",G$10/12*B$10))
A24: Novembre | D24: =B24+C24 -> 0 | F24: =IF(G$10="","",IF(D24=0,"",G$10/12*B$10))
A25: Décembre | D25: =B25+C25 -> 0 | F25: =IF(G$10="","",IF(D25=0,"",G$10/12*B$10))
A26: TOTAL | B26: =SUM(B14:B25) -> 0 | C26: =SUM(C14:C25) -> 0 | D26: =SUM(D14:D25) -> 0 | E26: =SUM(E14:E25) -> 0 | F26: =SUM(F14:F25) -> 0 | G26: =IF(I26*E26>D26,D26,I26*E26) -> #VALUE! | H26: =D26-G26 -> #VALUE! | I26: =IF(D26>0,IF(D26>COUNT(B14:B25)/12*100000*B10,COUNT(B14:B25)/12*100000*B10/F26,D26/F26),"") | O26: =SUM(O14:O25) -> 0 | P26: =SUM(P14:P25) -> 0
A28: Ligne récapitulative ci-dessous à re copier dans l'onglet "Dépenses" par collage spécial de type "Valeurs"
A29: Dépenses de personnel | B29: =B$9 -> 0 | C29: =B$3 -> Nom du bénéficiaire | D29: ="DDP"&B$6&"_PERSO_"&B8 -> DDP1_PERSO_ | E29: =I$9 -> 0 | F29: =T9 -> 30 | G29: =I$9 -> 0 | H29: REC | I29: / | J29: =D$26 -> 0 | K29: =H26 -> #VALUE! | T29: =G26 -> #VALUE!
A31: Nom du salarié | E31: Prénom du salarié
A32: Fonction | E32: Période de déclaration des dépenses | F32: du | H32: au | S32: =MONTH(G32) -> 1 | T32: =IF(S32=2,G32+27,IF(OR(S32=1,S32=3,S32=5,S32=7,S32=8,S32=10,S32=12),G32+30,G32+29)) -> 30
A33: Quotité de travail (en %) | E33: Temps de travail annuel de la structure (en heures)
B35: Salaire et charges | E35: Temps passé | G35: Calcul de la dépense correspondante | L35: Cadre réservé à la Région - vérifications faites par le service gestionnaire
A36: Mois | B36: Salaire brut mensuel (en €) | C36: Charges patronales (en €) | D36: Base de dépense (salaire brut chargé) | E36: Activité liée à l'opération (en heures) | F36: Activité totale travaillée (en heures) | G36: Montant présenté (en €) | H36: Montant non présenté (en €) | I36: Taux horaire moyen (en €/h) | L36: Réalité / lien avec l'opération | M36: Acquittement | N36: Eligibilité temporelle | O36: Montant retenu (€) | P36: Montant écarté (€) | Q36: Commentaires
A37: Janvier | D37: =B37+C37 -> 0 | F37: =IF($G$33="","",IF(D37=0,"",$G$33/12*$B$33))
A38: Février | D38: =B38+C38 -> 0 | F38: =IF($G$33="","",IF(D38=0,"",$G$33/12*$B$33))
A39: Mars | D39: =B39+C39 -> 0 | F39: =IF($G$33="","",IF(D39=0,"",$G$33/12*$B$33))
A40: Avril | D40: =B40+C40 -> 0 | F40: =IF($G$33="","",IF(D40=0,"",$G$33/12*$B$33))
A41: Mai | D41: =B41+C41 -> 0 | F41: =IF($G$33="","",IF(D41=0,"",$G$33/12*$B$33))
A42: Juin | D42: =B42+C42 -> 0 | F42: =IF($G$33="","",IF(D42=0,"",$G$33/12*$B$33))
A43: Juillet | D43: =B43+C43 -> 0 | F43: =IF($G$33="","",IF(D43=0,"",$G$33/12*$B$33))
A44: Août | D44: =B44+C44 -> 0 | E44: 0 | F44: =IF($G$33="","",IF(D44=0,"",$G$33/12*$B$33))
A45: Septembre | D45: =B45+C45 -> 0 | E45: 0 | F45: =IF($G$33="","",IF(D45=0,"",$G$33/12*$B$33))
A46: Octobre | D46: =B46+C46 -> 0 | F46: =IF($G$33="","",IF(D46=0,"",$G$33/12*$B$33))
...

Sheet Détail - Déplacements
A1: DÉPENSES DE DÉPLACEMENT, DE RESTAURATION, D'HÉBERGEMENT
A3: Bénéficiaire | B3: 0
A4: Numéro d'opération | B4: 0
A5: Opération | B5: 0
A6: N° demande de paiement | B6: 0
A8: Nom du salarié | E8: Prénom du salarié
A9: Fonction | E9: Période de déclaration des dépenses | F9: du | H9: au
A11: Identification du déplacement | D11: Détail des frais | H11: Dépense présentée | M11: Cadre réservé à la Région - vérifications faites par le service instructeur
A12: Date du déplacement | B12: Lieu du déplacement | C12: Motif du déplacement | D12: Montant frais de repas et hébergement | E12: Montant frais kilométriques | F12: Montant frais de transport | G12: Commentaires : expliquez le calcul et indiquez les n° des justificatifs | H12: Total des frais remboursés | I12: Mode de remboursement | J12: date de décaissement | M12: Réalité / lien avec l'opération | N12: Acquittement | O12: Eligibilité temporelle | P12: Montant retenu (€) | Q12: Montant écarté (€) | R12: Commentaires
H13: =D13+E13+F13 -> 0
H14: =D14+E14+F14 -> 0
H15: =D15+E15+F15 -> 0
H16: =D16+E16+F16 -> 0
H17: =D17+E17+F17 -> 0
H18: =D18+E18+F18 -> 0
H19: =D19+E19+F19 -> 0
H20: =D20+E20+F20 -> 0
H21: =D21+E21+F21 -> 0
H22: =D22+E22+F22 -> 0
H23: =D23+E23+F23 -> 0
H24: =D24+E24+F24 -> 0
D25: TOTAL présenté | H25: =SUM(H13:H24) -> 0 | P25: =IF(SUM(P13:P24)=0,"",SUM(P13:P24)) | Q25: =IF(SUM(Q13:Q24)=0,"",SUM(Q13:Q24))
A27: Ligne récapitulative ci-dessous à re copier dans l'onglet "Dépenses" par collage spécial de type "Valeurs"
A28: Dépenses de déplacement, de restauration, d'hébergement | C28: =B$3 -> 0 | D28: ="DDP"&B$6&"_DEPL_"&B8 -> DDP0_DEPL_ | F28: =MIN(J13:J24) -> 0 | G28: =MAX(J13:J24) -> 0 | H28: REC | J28: =H25 -> 0 | K28: 0
A30: Nom du salarié | E30: Prénom du salarié
A31: Fonction | E31: Période de déclaration des dépenses | F31: du | H31: au
A33: Identification du déplacement | D33: Détail des frais | H33: Dépense présentée | M33: Cadre réservé à la Région - vérifications faites par le service instructeur
A34: Date du déplacement | B34: Lieu du déplacement | C34: Motif du déplacement | D34: Montant frais de repas et hébergement | E34: Montant frais kilométriques | F34: Montant frais de transport | G34: Commentaires : expliquez le calcul et indiquez les n° des justificatifs | H34: Total de frais remboursés | I34: Mode de remboursement | J34: date de décaissement | M34: Réalité / lien avec l'opération | N34: Acquittement | O34: Eligibilité temporelle | P34: Montant retenu (€) | Q34: Montant écarté (€) | R34: Commentaires
H35: =D35+E35+F35 -> 0
H36: =D36+E36+F36 -> 0
H37: =D37+E37+F37 -> 0
H38: =D38+E38+F38 -> 0
H39: =D39+E39+F39 -> 0
H40: =D40+E40+F40 -> 0
H41: =D41+E41+F41 -> 0
H42: =D42+E42+F42 -> 0
H43: =D43+E43+F43 -> 0
H44: =D44+E44+F44 -> 0
H45: =D45+E45+F45 -> 0
H46: =D46+E46+F46 -> 0
...

Sheet Détail - Travaux
A1: DÉPENSES D'INVESTISSEMENT IMMATERIEL (TRAVAUX)
A3: Bénéficiaire | B3: =Dépenses!C4 -> 0
A4: Numéro d'opération | B4: =Dépenses!C5 -> 0
A5: Opération | B5: =Dépenses!C6 -> 0
A6: N° demande de paiement | B6: =Dépenses!C7 -> 0
A8: Période de déclaration des dépenses | B8: du | D8: au
A10: Lot n°1 - Intitulé à renseigner | P10: Cadre réservé à la Région - vérifications faites par le service instructeur
A11: Attributaire | B11: Raison sociale de l'attributaire à renseigner
A12: Type de garantie | B12: Retenue de garantie | P12: Application des règles d'échantillonnage VGBR - Applicable uniquement pour les dossiers y ouvrant droit en fonction de leur note de risque (voir onglet VGBR)
A13: Catégorie de dépenses | B13: Poste de dépenses/ Sous-poste éventuel (libellé présent dans l'annexe financière de la convention) | C13: Emetteur | D13: Référence | E13: Date d'émission | F13: Date d'acquittement | G13: Référence acquittement | H13: Date de versement de la retenue de garantie, le cas échéant | I13: Descriptif | J13: Montant pièce comptable HT ou TTC | K13: Dont montant de la retenue de garantie, le cas échéant | L13: Montant non présenté | M13: Commentaires | N13: Montant présenté | P13: Echantillonnage du post de dépense (O/N)* | Q13: Fonction Alea | R13: Réaliser un copier coller "valeurs uniquement" de la colonne Q | S13: Contrôle Oui/Non Si oui, contrôle exhaustif de tous les postes de la catégorie = " contrôle en exhaustif" ou contrôle sur un échantillonnage de dépenses de la catégorie = "échantillon à contrôler" Si non, pas de contrôle de la dépense = "hors échantillon" + au solde, contrôle obligatoire de la dernière facture du DGD | T13: Réalité / lien avec l'opération | U13: Acquittement | V13: Remboursement RG effectif, le cas échéant | W13: Eligibilité temporelle | X13: Montant retenu (€) | Y13: Montant écarté (€) | Z13: Commentaires
N14: =J14-L14 -> 0 | P14: =IF(COUNTIF(A:F,A14)>=25,"OUI","NON") -> OUI | Q14: =IF(P14="oui",RAND(),"<25 lignes donc pas d'échantillonnage") -> 0.52393071 | S14: =IF(P14="oui",IF(SUMIFS(N:N,A:A,A14,R:R,"<="&R14)/SUMIF(A:A,A14,N:N)<0.8,"hors Echantillon","Echantillon à Contrôler"), "Contrôle en exhaustif") -> #DIV/0!
N15: =J15-L15 -> 0 | P15: =IF(COUNTIF(A:F,A15)>=25,"OUI","NON") -> OUI | Q15: =IF(P15="oui",RAND(),"<25 lignes donc pas d'échantillonnage") -> 0.68621288 | S15: =IF(P15="oui",IF(SUMIFS(N:N,A:A,A15,R:R,"<="&R15)/SUMIF(A:A,A15,N:N)<0.8,"hors Echantillon","Echantillon à Contrôler"), "Contrôle en exhaustif") -> #DIV/0!
N16: =J16-L16 -> 0 | P16: =IF(COUNTIF(A:F,A16)>=25,"OUI","NON") -> OUI | Q16: =IF(P16="oui",RAND(),"<25 lignes donc pas d'échantillonnage") -> 0.53542381 | S16: =IF(P16="oui",IF(SUMIFS(N:N,A:A,A16,R:R,"<="&R16)/SUMIF(A:A,A16,N:N)<0.8,"hors Echantillon","Echantillon à Contrôler"), "Contrôle en exhaustif") -> #DIV/0!
N17: =J17-L17 -> 0 | P17: =IF(COUNTIF(A:F,A17)>=25,"OUI","NON") -> OUI | Q17: =IF(P17="oui",RAND(),"<25 lignes donc pas d'échantillonnage") -> 0.41071878 | S17: =IF(P17="oui",IF(SUMIFS(N:N,A:A,A17,R:R,"<="&R17)/SUMIF(A:A,A17,N:N)<0.8,"hors Echantillon","Echantillon à Contrôler"), "Contrôle en exhaustif") -> #DIV/0!
N18: =J18-L18 -> 0 | P18: =IF(COUNTIF(A:F,A18)>=25,"OUI","NON") -> OUI | Q18: =IF(P18="oui",RAND(),"<25 lignes donc pas d'échantillonnage") -> 0.66967595 | S18: =IF(P18="oui",IF(SUMIFS(N:N,A:A,A18,R:R,"<="&R18)/SUMIF(A:A,A18,N:N)<0.8,"hors Echantillon","Echantillon à Contrôler"), "Contrôle en exhaustif") -> #DIV/0!
N19: =J19-L19 -> 0 | P19: =IF(COUNTIF(A:F,A19)>=25,"OUI","NON") -> OUI | Q19: =IF(P19="oui",RAND(),"<25 lignes donc pas d'échantillonnage") -> 0.76302835 | S19: =IF(P19="oui",IF(SUMIFS(N:N,A:A,A19,R:R,"<="&R19)/SUMIF(A:A,A19,N:N)<0.8,"hors Echantillon","Echantillon à Contrôler"), "Contrôle en exhaustif") -> #DIV/0!
N20: =J20-L20 -> 0 | P20: =IF(COUNTIF(A:F,A20)>=25,"OUI","NON") -> OUI | Q20: =IF(P20="oui",RAND(),"<25 lignes donc pas d'échantillonnage") -> 0.15035567 | S20: =IF(P20="oui",IF(SUMIFS(N:N,A:A,A20,R:R,"<="&R20)/SUMIF(A:A,A20,N:N)<0.8,"hors Echantillon","Echantillon à Contrôler"), "Contrôle en exhaustif") -> #DIV/0!
N21: =J21-L21 -> 0 | P21: =IF(COUNTIF(A:F,A21)>=25,"OUI","NON") -> OUI | Q21: =IF(P21="oui",RAND(),"<25 lignes donc pas d'échantillonnage") -> 0.4431035 | S21: =IF(P21="oui",IF(SUMIFS(N:N,A:A,A21,R:R,"<="&R21)/SUMIF(A:A,A21,N:N)<0.8,"hors Echantillon","Echantillon à Contrôler"), "Contrôle en exhaustif") -> #DIV/0!
N22: =J22-L22 -> 0 | P22: =IF(COUNTIF(A:F,A22)>=25,"OUI","NON") -> OUI | Q22: =IF(P22="oui",RAND(),"<25 lignes donc pas d'échantillonnage") -> 0.48948481 | S22: =IF(P22="oui",IF(SUMIFS(N:N,A:A,A22,R:R,"<="&R22)/SUMIF(A:A,A22,N:N)<0.8,"hors Echantillon","Echantillon à Contrôler"), "Contrôle en exhaustif") -> #DIV/0!
N23: =J23-L23 -> 0 | P23: =IF(COUNTIF(A:F,A23)>=25,"OUI","NON") -> OUI | Q23: =IF(P23="oui",RAND(),"<25 lignes donc pas d'échantillonnage") -> 0.10213636 | S23: =IF(P23="oui",IF(SUMIFS(N:N,A:A,A23,R:R,"<="&R23)/SUMIF(A:A,A23,N:N)<0.8,"hors Echantillon","Echantillon à Contrôler"), "Contrôle en exhaustif") -> #DIV/0!
N24: =J24-L24 -> 0 | P24: =IF(COUNTIF(A:F,A24)>=25,"OUI","NON") -> OUI | Q24: =IF(P24="oui",RAND(),"<25 lignes donc pas d'échantillonnage") -> 0.30182329 | S24: =IF(P24="oui",IF(SUMIFS(N:N,A:A,A24,R:R,"<="&R24)/SUMIF(A:A,A24,N:N)<0.8,"hors Echantillon","Echantillon à Contrôler"), "Contrôle en exhaustif") -> #DIV/0!
N25: =J25-L25 -> 0 | P25: =IF(COUNTIF(A:F,A25)>=25,"OUI","NON") -> OUI | Q25: =IF(P25="oui",RAND(),"<25 lignes donc pas d'échantillonnage") -> 0.99933029 | S25: =IF(P25="oui",IF(SUMIFS(N:N,A:A,A25,R:R,"<="&R25)/SUMIF(A:A,A25,N:N)<0.8,"hors Echantillon","Echantillon à Contrôler"), "Contrôle en exhaustif") -> #DIV/0!
J26: =SUM(J14:J25) -> 0 | L26: =SUM(L14:L25) -> 0 | N26: =SUM(N14:N25) -> 0 | X26: =IF(SUM(X14:X25)=0,"",SUM(X14:X25)) | Y26: =IF(SUM(Y14:Y25)=0,"",SUM(Y14:Y25))
A28: Ligne récapitulative ci-dessous à re copier (de la cellule A à la cellule K) dans l'onglet "Dépenses" par collage spécial de type "Valeurs"
A29: =A14 -> 0 | B29: =A10 -> Lot n°1 - Intitulé à renseigner | C29: =B11 -> Raison sociale de l'attributaire à renseigner | D29: / | E29: / | F29: =MIN($F14:$F25) -> 0 | G29: =MAX(F14:F25,H14:H25) -> 0 | H29: REC | I29: / | J29: =J26 -> 0 | K29: =L26 -> 0 | AH29: =N26 -> 0
A31: Période de déclaration des dépenses | B31: du | C31: =IF(C8="","",C8) | D31: au | E31: =IF(E8="","",E8)
A33: Lot n°2 - Intitulé à renseigner | P33: Cadre réservé à la Région - vérifications faites par le service instructeur
A34: Attributaire | B34: Raison sociale de l'attributaire à renseigner
A35: Type de garantie | B35: Retenue de garantie | P35: Application des règles d'échantillonnage VGBR - Applicable uniquement pour les dossiers y ouvrant droit en fonction de leur note de risque (voir onglet VGBR)
A36: Catégorie de dépenses | B36: Poste de dépenses/ Sous-poste éventuel (libellé présent dans l'annexe financière de la convention) | C36: Emetteur | D36: Référence | E36: Date d'émission | F36: Date d'acquittement | G36: Référence acquittement | H36: Date de versement de la retenue de garantie, le cas échéant | I36: Descriptif | J36: Montant pièce comptable HT ou TTC | K36: Dont montant de la retenue de garantie, le cas échéant | L36: Montant non présenté | M36: Commentaires | N36: Montant présenté | P36: Echantillonnage du post de dépense (O/N)* | Q36: Fonction Alea | R36: Réaliser un copier coller "valeurs uniquement" de la colonne Q | S36: Contrôle Oui/Non Si oui, contrôle exhaustif de tous les postes de la catégorie = " contrôle en exhaustif" ou contrôle sur un échantillonnage de dépenses de la catégorie = "échantillon à contrôler" Si non, pas de contrôle de la dépense = "hors échantillon" +contrôle obligatoire des factures de solde/ ou en cas d’acompte, de la dernière facture en date avec le cumul | T36: Réalité / lien avec l'opération | U36: Acquittement | V36: Remboursement RG effectif, le cas échéant | W36: Eligibilité temporelle | X36: Montant retenu (€) | Y36: Montant écarté (€) | Z36: Commentaires
N37: =J37-L37 -> 0 | P37: =IF(COUNTIF(A:F,A37)>=25,"OUI","NON") -> OUI | Q37: =IF(P37="oui",RAND(),"<25 lignes donc pas d'échantillonnage") -> 0.024818842 | S37: =IF(P37="oui",IF(SUMIFS(N:N,A:A,A37,R:R,"<="&R37)/SUMIF(A:A,A37,N:N)<0.8,"hors Echantillon","Echantillon à Contrôler"), "Contrôle en exhaustif") -> #DIV/0!
N38: =J38-L38 -> 0 | P38: =IF(COUNTIF(A:F,A38)>=25,"OUI","NON") -> OUI | Q38: =IF(P38="oui",RAND(),"<25 lignes donc pas d'échantillonnage") -> 0.56647228 | S38: =IF(P38="oui",IF(SUMIFS(N:N,A:A,A38,R:R,"<="&R38)/SUMIF(A:A,A38,N:N)<0.8,"hors Echantillon","Echantillon à Contrôler"), "Contrôle en exhaustif") -> #DIV/0!
N39: =J39-L39 -> 0 | P39: =IF(COUNTIF(A:F,A39)>=25,"OUI","NON") -> OUI | Q39: =IF(P39="oui",RAND(),"<25 lignes donc pas d'échantillonnage") -> 0.030301232 | S39: =IF(P39="oui",IF(SUMIFS(N:N,A:A,A39,R:R,"<="&R39)/SUMIF(A:A,A39,N:N)<0.8,"hors Echantillon","Echantillon à Contrôler"), "Contrôle en exhaustif") -> #DIV/0!
N40: =J40-L40 -> 0 | P40: =IF(COUNTIF(A:F,A40)>=25,"OUI","NON") -> OUI | Q40: =IF(P40="oui",RAND(),"<25 lignes donc pas d'échantillonnage") -> 0.055968506 | S40: =IF(P40="oui",IF(SUMIFS(N:N,A:A,A40,R:R,"<="&R40)/SUMIF(A:A,A40,N:N)<0.8,"hors Echantillon","Echantillon à Contrôler"), "Contrôle en exhaustif") -> #DIV/0!
N41: =J41-L41 -> 0 | P41: =IF(COUNTIF(A:F,A41)>=25,"OUI","NON") -> OUI | Q41: =IF(P41="oui",RAND(),"<25 lignes donc pas d'échantillonnage") -> 0.59689554 | S41: =IF(P41="oui",IF(SUMIFS(N:N,A:A,A41,R:R,"<="&R41)/SUMIF(A:A,A41,N:N)<0.8,"hors Echantillon","Echantillon à Contrôler"), "Contrôle en exhaustif") -> #DIV/0!
N42: =J42-L42 -> 0 | P42: =IF(COUNTIF(A:F,A42)>=25,"OUI","NON") -> OUI | Q42: =IF(P42="oui",RAND(),"<25 lignes donc pas d'échantillonnage") -> 0.51000715 | S42: =IF(P42="oui",IF(SUMIFS(N:N,A:A,A42,R:R,"<="&R42)/SUMIF(A:A,A42,N:N)<0.8,"hors Echantillon","Echantillon à Contrôler"), "Contrôle en exhaustif") -> #DIV/0!
N43: =J43-L43 -> 0 | P43: =IF(COUNTIF(A:F,A43)>=25,"OUI","NON") -> OUI | Q43: =IF(P43="oui",RAND(),"<25 lignes donc pas d'échantillonnage") -> 0.93379928 | S43: =IF(P43="oui",IF(SUMIFS(N:N,A:A,A43,R:R,"<="&R43)/SUMIF(A:A,A43,N:N)<0.8,"hors Echantillon","Echantillon à Contrôler"), "Contrôle en exhaustif") -> #DIV/0!
N44: =J44-L44 -> 0 | P44: =IF(COUNTIF(A:F,A44)>=25,"OUI","NON") -> OUI | Q44: =IF(P44="oui",RAND(),"<25 lignes donc pas d'échantillonnage") -> 0.62587515 | S44: =IF(P44="oui",IF(SUMIFS(N:N,A:A,A44,R:R,"<="&R44)/SUMIF(A:A,A44,N:N)<0.8,"hors Echantillon","Echantillon à Contrôler"), "Contrôle en exhaustif") -> #DIV/0!
N45: =J45-L45 -> 0 | P45: =IF(COUNTIF(A:F,A45)>=25,"OUI","NON") -> OUI | Q45: =IF(P45="oui",RAND(),"<25 lignes donc pas d'échantillonnage") -> 0.3714369 | S45: =IF(P45="oui",IF(SUMIFS(N:N,A:A,A45,R:R,"<="&R45)/SUMIF(A:A,A45,N:N)<0.8,"hors Echantillon","Echantillon à Contrôler"), "Contrôle en exhaustif") -> #DIV/0!
N46: =J46-L46 -> 0 | P46: =IF(COUNTIF(A:F,A46)>=25,"OUI","NON") -> OUI | Q46: =IF(P46="oui",RAND(),"<25 lignes donc pas d'échantillonnage") -> 0.83896326 | S46: =IF(P46="oui",IF(SUMIFS(N:N,A:A,A46,R:R,"<="&R46)/SUMIF(A:A,A46,N:N)<0.8,"hors Echantillon","Echantillon à Contrôler"), "Contrôle en exhaustif") -> #DIV/0!
...

Sheet Contrib en nature
A1: Détail des contributions en nature réalisées
A3: Bénéficiaire | B3: =Dépenses!C4 -> 0
A4: Numéro d'opération | B4: =Dépenses!C5 -> 0
A5: Opération | B5: =Dépenses!C6 -> 0
A6: N° demande de paiement | B6: =Dépenses!C7 -> 0
F7: Montants valorisés
B8: Contributeur (nom de la structure) | C8: Statut juridique | D8: Détailler la nature des dépenses réalisées | E8: Rappeler les bases de calcul | F8: Année …… | G8: Année …… | H8: Année …… | I8: Total
A9: Mise à disposition de biens immobiliers, d'équipements, de matières premières, … | I9: =SUM(F9:H9) -> 0
I10: =SUM(F10:H10) -> 0
A11: Mise à disposition de prestations, de personnels, travail bénévole, … | I11: =SUM(F11:H11) -> 0
I12: =SUM(F12:H12) -> 0
E13: Total d'origine publique | F13: =SUMIFS(F9:F12,$C9:$C12,"public") -> 0 | G13: =SUMIFS(G9:G12,$C9:$C12,"public") -> 0 | H13: =SUMIFS(H9:H12,$C9:$C12,"public") -> 0 | I13: =SUM(F13:H13) -> 0
E14: Total d'origine privée | F14: =SUMIFS(F9:F12,$C9:$C12,"privé") -> 0 | G14: =SUMIFS(G9:G12,$C9:$C12,"privé") -> 0 | H14: =SUMIFS(H9:H12,$C9:$C12,"privé") -> 0 | I14: =SUM(F14:H14) -> 0
E15: Total | F15: =SUM(F13:F14) -> 0 | G15: =SUM(G13:G14) -> 0 | H15: =SUM(H13:H14) -> 0 | I15: =SUM(F15:H15) -> 0
D17: Contributeur :
D18: Nom - Prénom :
D19: Fonction :
D20: Le :
D21: A :
D22: Signature :

Sheet Ressources
A1: ETAT RECAPITULATIF DES RESSOURCES PERCUES
A3: Bénéficiaire | B3: =Dépenses!C4 -> 0
A4: Numéro d'opération | B4: =Dépenses!C5 -> 0
A5: Opération | B5: =Dépenses!C6 -> 0
A6: Numéro de la demande de paiement | B6: =Dépenses!C7 -> 0
A7: Type de la demande | B7: =IF(Dépenses!C8="","",Dépenses!C8) -> Acompte
A8: Période de déclaration des dépenses | B8: =IF(Dépenses!C9="","",Dépenses!C9)
A10: COFINANCEMENTS | M10: Cadre réservé à la Région - vérifications faites par le service instructeur
A11: Type de financeur | B11: Co financeur | C11: Référence financement | D11: Objet du cofinancement (actions, machines, contrat de travail...) | E11: Statut public/ privé | F11: Montant cofinancement total | G11: Montant cofinancement éligible UE | H11: Montant perçu | I11: % de réalisation | J11: Date d'encaissement | K11: N° d'encaissement chèque, virement | M11: Vérification justificatif | N11: Vérification encaissement | O11: Montant retenu (€) | P11: Commentaires
A12: Financeur public | I12: =IF(H12="","",H12/F12)
A13: Financeur privé | I13: =IF(H13="","",H13/F13)
A14: Contributions en nature | I14: =IF(H14="","",H14/F14)
A15: Nouveau cofinancement non prévu à la convention, le cas échéant (préciser le cofinanceur) | I15: =IF(H15="","",H15/F15)
A16: TOTAL | F16: =SUM(F12:F15) -> 0 | G16: =SUM(G12:G15) -> 0 | H16: =SUM(H12:H15) -> 0 | O16: =SUM(O12:O15) -> 0
A19: Vérification de la réalité des ressources et du lien avec l'opération | F19: Vérification de l'encaissement des ressources
A20: Signature du bénéficiaire (personne habilitée à engager la structure) | F20: Visa du comptable public ou du commissaire aux comptes, selon le cas
A21: Prénom : Nom : | F21: Certifié exact et perçu | H21: Le
A22: Fonction : | B22: Directeur | H22: Signature du comptable public ou commissaire aux comptes et cachet :
A23: Certifié exact et conforme à l'objet de l'aide européenne | B23: Le :
B24: Signature et cachet :
F27: OU
A28: Je m'engage à fournir les décisions (conventions, arrêtés, délibérations, etc.) des cofinancements si celles-ci n'ont pas été fournies lors du dépôt de la demande de subvention | F28: Je m'engage à fournir les relevés bancaires permettant d'identifier les montants versés par les cofinanceurs Signature du bénéficiaire :

Sheet Listes
B3: A - Dépenses d'investissement matériel et immatériel;
B4: B - Dépenses d'amortissement;
B5: C - Dépenses de communication de l'opération
B6: D - Dépenses de fonctionnement (frais généraux)
B7: E - Dépenses de personnel
B8: F - Dépenses de prestations externes de service
B9: G - Dépenses en nature
B10: H - Autres dépenses
B11: I - Financement à taux forfaitaire (OCS…)

Sheet Récap par catégorie de dépense
A1: Actualiser le tableau croisé (Menu "outils de tableau croisé dynmaique" dans la barre de menus d'Excel, puis "Actualiser")
A3: Étiquettes de lignes | B3: Somme de Montant pièce comptable | C3: Somme de Montant non présenté
A4: (vide) | B4: 4890.8525 | C4: 0
A5: Dépenses de prestations externes de service | B5: 513724.77 | C5: 0
A6: Dépenses de personnel | B6: 49080.29 | C6: 0
A7: Dépenses indirectes sous forme de coûts simplifiés | B7: 7362.0435 | C7: 0
A8: Total général | B8: 575057.96 | C8: 0

Sheet Liste catégories de dépenses
A1: Liste des catégories de dépenses
A2: Dépenses de personnel
A3: Dépenses de prestations externes de service
A4: Dépenses d'Investissement matériel et immatériel
A5: Dépenses d'amortissement
A6: Dépenses de communication de l'opération
A7: Dépenses de déplacement, de restauration, d'hébergement
A8: Dépenses en nature
A9: Dépenses indirectes sous forme de coûts simplifiés
A10: Autres dépenses (à spécifier)
A11: Dépenses liées aux participants
A12: Recettes nettes générées par l’opération
A13: Dépenses de fonctionnement (frais généraux de structure)
